BEGIN:VCALENDAR
VERSION:2.0
PRODID:#https://feuerwehrzufikon.ch/#8074#10680
CALSCALE:GREGORIAN
METHOD:PUBLISH
BEGIN:VEVENT
SUMMARY:Regio Verkehr
UID:TVRBMk9EQT0=
STATUS:CONFIRMED
DTSTART:20260509T090000
DTEND:20260509T120000
DTSTAMP:20260119T103746
LOCATION:Bremgarten
DESCRIPTION:
END:VEVENT
END:VCALENDAR