BEGIN:VCALENDAR
VERSION:2.0
PRODID:#https://feuerwehrzufikon.ch/#8074#10679
CALSCALE:GREGORIAN
METHOD:PUBLISH
BEGIN:VEVENT
SUMMARY:Regio Kader
UID:TVRBMk56az0=
STATUS:CONFIRMED
DTSTART:20260507T193000
DTEND:20260507T220000
DTSTAMP:20260119T104602
LOCATION:Oberwil-Lieli und Arni-Islisberg in Zufikon
DESCRIPTION:
END:VEVENT
END:VCALENDAR