BEGIN:VCALENDAR
VERSION:2.0
PRODID:#https://feuerwehrzufikon.ch/#8074#10678
CALSCALE:GREGORIAN
METHOD:PUBLISH
BEGIN:VEVENT
SUMMARY:4. Atemschutztraining Blau
UID:TVRBMk56Zz0=
STATUS:CONFIRMED
DTSTART:20260506T194500
DTEND:20260506T220000
DTSTAMP:20260115T165518
LOCATION:Magazin
DESCRIPTION:
END:VEVENT
END:VCALENDAR