BEGIN:VCALENDAR
VERSION:2.0
PRODID:#https://feuerwehrzufikon.ch/#8074#10677
CALSCALE:GREGORIAN
METHOD:PUBLISH
BEGIN:VEVENT
SUMMARY:2. Fahrtraining VK Gruppe 1
UID:TVRBMk56Yz0=
STATUS:CONFIRMED
DTSTART:20260506T200000
DTEND:20260506T220000
DTSTAMP:20260115T114010
LOCATION:Magazin
DESCRIPTION:
END:VEVENT
END:VCALENDAR