BEGIN:VCALENDAR
VERSION:2.0
PRODID:#https://feuerwehrzufikon.ch/#8074#10676
CALSCALE:GREGORIAN
METHOD:PUBLISH
BEGIN:VEVENT
SUMMARY:Regio Sanität
UID:TVRBMk56WT0=
STATUS:CONFIRMED
DTSTART:20260505T190000
DTEND:20260505T220000
DTSTAMP:20260115T170100
LOCATION:Unterlunkhofen
DESCRIPTION:
END:VEVENT
END:VCALENDAR