BEGIN:VCALENDAR
VERSION:2.0
PRODID:#https://feuerwehrzufikon.ch/#8074#10675
CALSCALE:GREGORIAN
METHOD:PUBLISH
BEGIN:VEVENT
SUMMARY:2. Fahrtraining C1 118 Gruppe 3
UID:TVRBMk56VT0=
STATUS:CONFIRMED
DTSTART:20260505T200000
DTEND:20260505T220000
DTSTAMP:20260115T100757
LOCATION:Magazin
DESCRIPTION:
END:VEVENT
END:VCALENDAR