BEGIN:VCALENDAR
VERSION:2.0
PRODID:#https://feuerwehrzufikon.ch/#8074#10674
CALSCALE:GREGORIAN
METHOD:PUBLISH
BEGIN:VEVENT
SUMMARY:2. Maschinistentraining Gelb
UID:TVRBMk56UT0=
STATUS:CONFIRMED
DTSTART:20260504T200000
DTEND:20260504T220000
DTSTAMP:20260115T164701
LOCATION:Magazin
DESCRIPTION:
END:VEVENT
END:VCALENDAR